BEGIN:VCALENDAR
VERSION:2.0
PRODID:-//Dun Laoghaire Motor Yacht Club - ECPv6.15.17//NONSGML v1.0//EN
CALSCALE:GREGORIAN
METHOD:PUBLISH
X-ORIGINAL-URL:https://www.dmyc.ie
X-WR-CALDESC:Events for Dun Laoghaire Motor Yacht Club
REFRESH-INTERVAL;VALUE=DURATION:PT1H
X-Robots-Tag:noindex
X-PUBLISHED-TTL:PT1H
BEGIN:VTIMEZONE
TZID:Europe/London
BEGIN:DAYLIGHT
TZOFFSETFROM:+0000
TZOFFSETTO:+0100
TZNAME:BST
DTSTART:20250330T010000
END:DAYLIGHT
BEGIN:STANDARD
TZOFFSETFROM:+0100
TZOFFSETTO:+0000
TZNAME:GMT
DTSTART:20251026T010000
END:STANDARD
BEGIN:DAYLIGHT
TZOFFSETFROM:+0000
TZOFFSETTO:+0100
TZNAME:BST
DTSTART:20260329T010000
END:DAYLIGHT
BEGIN:STANDARD
TZOFFSETFROM:+0100
TZOFFSETTO:+0000
TZNAME:GMT
DTSTART:20261025T010000
END:STANDARD
BEGIN:DAYLIGHT
TZOFFSETFROM:+0000
TZOFFSETTO:+0100
TZNAME:BST
DTSTART:20270328T010000
END:DAYLIGHT
BEGIN:STANDARD
TZOFFSETFROM:+0100
TZOFFSETTO:+0000
TZNAME:GMT
DTSTART:20271031T010000
END:STANDARD
END:VTIMEZONE
BEGIN:VEVENT
DTSTART;TZID=Europe/London:20260322T163000
DTEND;TZID=Europe/London:20260322T183000
DTSTAMP:20260420T052615
CREATED:20260209T174635Z
LAST-MODIFIED:20260209T174635Z
UID:6359-1774197000-1774204200@www.dmyc.ie
SUMMARY:Frostbite Prizegiving
DESCRIPTION:The Frostbite season ends with a Prizegiving ceremony – all competitors are welcome.  The time is approximate – it will depend on when racing ends and results are processed. \nAnd our race management team and volunteers get their Sunday afternoons back after a five-month commitment. \nThank you to Viking Marine for their support. \n 
URL:https://www.dmyc.ie/event/frostbite-prizegiving-2/
LOCATION:The Clubhouse\, Dun Laoghaire Motor Yacht Club\, West Pier\, Dun Laoghaire\, Dublin\, Ireland
CATEGORIES:Racing
END:VEVENT
BEGIN:VEVENT
DTSTART;TZID=Europe/London:20260423T180000
DTEND;TZID=Europe/London:20260423T210000
DTSTAMP:20260420T052615
CREATED:20260209T175028Z
LAST-MODIFIED:20260209T175028Z
UID:6364-1776967200-1776978000@www.dmyc.ie
SUMMARY:DBSC Racing Begins
DESCRIPTION:The Dublin Bay Sailing Club season starts on Thursday this year.
URL:https://www.dmyc.ie/event/dbsc-racing-begins-2/
LOCATION:Dublin Bay\, Dun Laoghaire\, Ireland
CATEGORIES:Racing
END:VEVENT
BEGIN:VEVENT
DTSTART;VALUE=DATE:20260606
DTEND;VALUE=DATE:20260608
DTSTAMP:20260420T052615
CREATED:20260105T171053Z
LAST-MODIFIED:20260209T175745Z
UID:6279-1780704000-1780876799@www.dmyc.ie
SUMMARY:DMYC Regatta
DESCRIPTION:The DMYC will be hosting our Regatta on Saturday and Sunday. Note that Saturday racing is for both keelboats and dinghies while additional racing will take place on the Sunday for dinghies only. \nThe Notice of Race will be published later\, with all the details. \nMembers: This is our main sailing event this summer. Please come down and support your club.
URL:https://www.dmyc.ie/event/dmyc-regatta/
LOCATION:Dublin Bay\, Dun Laoghaire\, Ireland
CATEGORIES:Racing,Social
END:VEVENT
END:VCALENDAR