BEGIN:VCALENDAR
VERSION:2.0
PRODID:-//Dun Laoghaire Motor Yacht Club - ECPv6.15.17//NONSGML v1.0//EN
CALSCALE:GREGORIAN
METHOD:PUBLISH
X-WR-CALNAME:Dun Laoghaire Motor Yacht Club
X-ORIGINAL-URL:https://www.dmyc.ie
X-WR-CALDESC:Events for Dun Laoghaire Motor Yacht Club
REFRESH-INTERVAL;VALUE=DURATION:PT1H
X-Robots-Tag:noindex
X-PUBLISHED-TTL:PT1H
BEGIN:VTIMEZONE
TZID:Europe/London
BEGIN:DAYLIGHT
TZOFFSETFROM:+0000
TZOFFSETTO:+0100
TZNAME:BST
DTSTART:20240331T010000
END:DAYLIGHT
BEGIN:STANDARD
TZOFFSETFROM:+0100
TZOFFSETTO:+0000
TZNAME:GMT
DTSTART:20241027T010000
END:STANDARD
BEGIN:DAYLIGHT
TZOFFSETFROM:+0000
TZOFFSETTO:+0100
TZNAME:BST
DTSTART:20250330T010000
END:DAYLIGHT
BEGIN:STANDARD
TZOFFSETFROM:+0100
TZOFFSETTO:+0000
TZNAME:GMT
DTSTART:20251026T010000
END:STANDARD
BEGIN:DAYLIGHT
TZOFFSETFROM:+0000
TZOFFSETTO:+0100
TZNAME:BST
DTSTART:20260329T010000
END:DAYLIGHT
BEGIN:STANDARD
TZOFFSETFROM:+0100
TZOFFSETTO:+0000
TZNAME:GMT
DTSTART:20261025T010000
END:STANDARD
END:VTIMEZONE
BEGIN:VEVENT
DTSTART;TZID=Europe/London:20251221T163000
DTEND;TZID=Europe/London:20251221T180000
DTSTAMP:20260424T092326
CREATED:20251216T171347Z
LAST-MODIFIED:20251216T171347Z
UID:6255-1766334600-1766340000@www.dmyc.ie
SUMMARY:Frostbite Prizegiving
DESCRIPTION:Prizes for the Viking Marine Frostbite Series 1 will be presented in the DMYC after racing on Sunday 21 December. The time will depend on when we get ashore after racing\, but will probably be around 4:30 or 5 pm. \nAll competitors are welcome (not just the winners!).  There will be food and drink available in the bar. \nThe prizegiving will go ahead even if racing is cancelled\, but the time might change.
URL:https://www.dmyc.ie/event/frostbite-prizegiving/
LOCATION:The Clubhouse\, Dun Laoghaire Motor Yacht Club\, West Pier\, Dun Laoghaire\, Dublin\, Ireland
CATEGORIES:Racing
END:VEVENT
END:VCALENDAR