BEGIN:VCALENDAR
VERSION:2.0
PRODID:-//Dun Laoghaire Motor Yacht Club - ECPv6.15.17//NONSGML v1.0//EN
CALSCALE:GREGORIAN
METHOD:PUBLISH
X-WR-CALNAME:Dun Laoghaire Motor Yacht Club
X-ORIGINAL-URL:https://www.dmyc.ie
X-WR-CALDESC:Events for Dun Laoghaire Motor Yacht Club
REFRESH-INTERVAL;VALUE=DURATION:PT1H
X-Robots-Tag:noindex
X-PUBLISHED-TTL:PT1H
BEGIN:VTIMEZONE
TZID:Europe/London
BEGIN:DAYLIGHT
TZOFFSETFROM:+0000
TZOFFSETTO:+0100
TZNAME:BST
DTSTART:20240331T010000
END:DAYLIGHT
BEGIN:STANDARD
TZOFFSETFROM:+0100
TZOFFSETTO:+0000
TZNAME:GMT
DTSTART:20241027T010000
END:STANDARD
BEGIN:DAYLIGHT
TZOFFSETFROM:+0000
TZOFFSETTO:+0100
TZNAME:BST
DTSTART:20250330T010000
END:DAYLIGHT
BEGIN:STANDARD
TZOFFSETFROM:+0100
TZOFFSETTO:+0000
TZNAME:GMT
DTSTART:20251026T010000
END:STANDARD
BEGIN:DAYLIGHT
TZOFFSETFROM:+0000
TZOFFSETTO:+0100
TZNAME:BST
DTSTART:20260329T010000
END:DAYLIGHT
BEGIN:STANDARD
TZOFFSETFROM:+0100
TZOFFSETTO:+0000
TZNAME:GMT
DTSTART:20261025T010000
END:STANDARD
END:VTIMEZONE
BEGIN:VEVENT
DTSTART;TZID=Europe/London:20250822T140000
DTEND;TZID=Europe/London:20250823T223000
DTSTAMP:20260420T063042
CREATED:20250314T111644Z
LAST-MODIFIED:20250808T172925Z
UID:5691-1755871200-1755988200@www.dmyc.ie
SUMMARY:Shipman National Championship
DESCRIPTION:The club is delighted to be hosting the 2025 Shipman National Championship. \nRegistration and briefing are on the afternoon of Friday 22 August.  The plan is to have two races later that day\, with two more races the following day.  The final race may be the regular DBSC race. \nDetails and entries at the Irish Shipman Association \n 
URL:https://www.dmyc.ie/event/shipman-national-championship/
LOCATION:Dublin Bay\, Dun Laoghaire\, Ireland
CATEGORIES:Racing
END:VEVENT
END:VCALENDAR