BEGIN:VCALENDAR
VERSION:2.0
PRODID:-//Dun Laoghaire Motor Yacht Club - ECPv6.15.17//NONSGML v1.0//EN
CALSCALE:GREGORIAN
METHOD:PUBLISH
X-ORIGINAL-URL:https://www.dmyc.ie
X-WR-CALDESC:Events for Dun Laoghaire Motor Yacht Club
REFRESH-INTERVAL;VALUE=DURATION:PT1H
X-Robots-Tag:noindex
X-PUBLISHED-TTL:PT1H
BEGIN:VTIMEZONE
TZID:Europe/London
BEGIN:DAYLIGHT
TZOFFSETFROM:+0000
TZOFFSETTO:+0100
TZNAME:BST
DTSTART:20240331T010000
END:DAYLIGHT
BEGIN:STANDARD
TZOFFSETFROM:+0100
TZOFFSETTO:+0000
TZNAME:GMT
DTSTART:20241027T010000
END:STANDARD
BEGIN:DAYLIGHT
TZOFFSETFROM:+0000
TZOFFSETTO:+0100
TZNAME:BST
DTSTART:20250330T010000
END:DAYLIGHT
BEGIN:STANDARD
TZOFFSETFROM:+0100
TZOFFSETTO:+0000
TZNAME:GMT
DTSTART:20251026T010000
END:STANDARD
BEGIN:DAYLIGHT
TZOFFSETFROM:+0000
TZOFFSETTO:+0100
TZNAME:BST
DTSTART:20260329T010000
END:DAYLIGHT
BEGIN:STANDARD
TZOFFSETFROM:+0100
TZOFFSETTO:+0000
TZNAME:GMT
DTSTART:20261025T010000
END:STANDARD
END:VTIMEZONE
BEGIN:VEVENT
DTSTART;TZID=Europe/London:20250323T140000
DTEND;TZID=Europe/London:20250323T190000
DTSTAMP:20260419T190717
CREATED:20250220T191233Z
LAST-MODIFIED:20250220T191233Z
UID:5653-1742738400-1742756400@www.dmyc.ie
SUMMARY:Frostbite Conclusion
DESCRIPTION:The final races of the Viking Marine Frostbite Series are scheduled from 14:00. \nEven if you are not racing\, drop down to the club and join the competitors and volunteers for the prizegiving from about 17:00.
URL:https://www.dmyc.ie/event/frostbite-conclusion/
CATEGORIES:Racing
END:VEVENT
END:VCALENDAR