BEGIN:VCALENDAR
VERSION:2.0
PRODID:-//Dun Laoghaire Motor Yacht Club - ECPv6.15.17//NONSGML v1.0//EN
CALSCALE:GREGORIAN
METHOD:PUBLISH
X-WR-CALNAME:Dun Laoghaire Motor Yacht Club
X-ORIGINAL-URL:https://www.dmyc.ie
X-WR-CALDESC:Events for Dun Laoghaire Motor Yacht Club
REFRESH-INTERVAL;VALUE=DURATION:PT1H
X-Robots-Tag:noindex
X-PUBLISHED-TTL:PT1H
BEGIN:VTIMEZONE
TZID:Europe/London
BEGIN:DAYLIGHT
TZOFFSETFROM:+0000
TZOFFSETTO:+0100
TZNAME:BST
DTSTART:20230326T010000
END:DAYLIGHT
BEGIN:STANDARD
TZOFFSETFROM:+0100
TZOFFSETTO:+0000
TZNAME:GMT
DTSTART:20231029T010000
END:STANDARD
BEGIN:DAYLIGHT
TZOFFSETFROM:+0000
TZOFFSETTO:+0100
TZNAME:BST
DTSTART:20240331T010000
END:DAYLIGHT
BEGIN:STANDARD
TZOFFSETFROM:+0100
TZOFFSETTO:+0000
TZNAME:GMT
DTSTART:20241027T010000
END:STANDARD
BEGIN:DAYLIGHT
TZOFFSETFROM:+0000
TZOFFSETTO:+0100
TZNAME:BST
DTSTART:20250330T010000
END:DAYLIGHT
BEGIN:STANDARD
TZOFFSETFROM:+0100
TZOFFSETTO:+0000
TZNAME:GMT
DTSTART:20251026T010000
END:STANDARD
END:VTIMEZONE
BEGIN:VEVENT
DTSTART;VALUE=DATE:20240712
DTEND;VALUE=DATE:20240715
DTSTAMP:20260424T091432
CREATED:20240210T152337Z
LAST-MODIFIED:20240626T071244Z
UID:5279-1720742400-1721001599@www.dmyc.ie
SUMMARY:Ruffian National Championships
DESCRIPTION:
URL:https://www.dmyc.ie/event/ruffian-national-championships/
LOCATION:The Clubhouse\, Dun Laoghaire Motor Yacht Club\, West Pier\, Dun Laoghaire\, Dublin\, Ireland
CATEGORIES:Racing
END:VEVENT
END:VCALENDAR